BEGIN:VCALENDAR
VERSION:2.0
PRODID:-//wp-events-plugin.com//7.0.5//EN
TZID:Europe/Vienna
X-WR-TIMEZONE:Europe/Vienna
BEGIN:VEVENT
UID:31@tischfussballverband.at
DTSTART;TZID=Europe/Vienna:20260425T100000
DTEND;TZID=Europe/Vienna:20260425T170000
DTSTAMP:20250721T223533Z
URL:https://www.tischfussballverband.at/events/veranstaltung-royal-78-beim
 -tag-des-sportes-donau-zentrum/
SUMMARY:Veranstaltung: TSC Royal 78 K. - Tag des Sportes\, Donau Zentrum
DESCRIPTION:Veranstaltung  Tag des Sportes  ASKÖ Sportstammtisch\n\nWest
 field Donau Zentrum.\n1220 Wien\n\nBesucher-Öffnungszeiten Donau Zentrum
  \n\nSamstag\, 25 April 2026: 10:00 - 17:00 Uhr  //   EÖTV ab 09.30 U
 hr bis 17.00Uhr\n\n&nbsp\;
END:VEVENT
BEGIN:VTIMEZONE
TZID:Europe/Vienna
X-LIC-LOCATION:Europe/Vienna
BEGIN:DAYLIGHT
DTSTART:20260329T030000
TZOFFSETFROM:+0100
TZOFFSETTO:+0200
TZNAME:CEST
END:DAYLIGHT
END:VTIMEZONE
END:VCALENDAR