BEGIN:VCALENDAR
VERSION:2.0
PRODID:-//wp-events-plugin.com//7.0.5//EN
TZID:Europe/Vienna
X-WR-TIMEZONE:Europe/Vienna
BEGIN:VEVENT
UID:39@tischfussballverband.at
DTSTART;TZID=Europe/Vienna:20260901T000000
DTEND;TZID=Europe/Vienna:20260901T000000
DTSTAMP:20250427T070101Z
URL:https://www.tischfussballverband.at/events/saison-anfang-2026-27/
SUMMARY:Saison Anfang 2026/27
DESCRIPTION:Terminplanung beim EÖTV abgeben
END:VEVENT
BEGIN:VTIMEZONE
TZID:Europe/Vienna
X-LIC-LOCATION:Europe/Vienna
BEGIN:DAYLIGHT
DTSTART:20260329T030000
TZOFFSETFROM:+0100
TZOFFSETTO:+0200
TZNAME:CEST
END:DAYLIGHT
END:VTIMEZONE
END:VCALENDAR