BEGIN:VCALENDAR
VERSION:2.0
PRODID:-//wp-events-plugin.com//7.0.5//EN
TZID:Europe/Vienna
X-WR-TIMEZONE:Europe/Vienna
BEGIN:VEVENT
UID:41@tischfussballverband.at
DTSTART;TZID=Europe/Vienna;VALUE=DATE:20250906
DTEND;TZID=Europe/Vienna;VALUE=DATE:20250908
DTSTAMP:20250721T214502Z
URL:https://www.tischfussballverband.at/events/nationalteam-training-fuer-
 em-in-malta/
SUMMARY:Nationalteam Training für EM in Malta
DESCRIPTION:Nationalmannschaft Training (Trainingslager)\nE-Mail Anfrage an
 :   EÖTV Präsident\nEÖTV\nAdresse: Köszeg\, Ungarn\n 6. &amp\; 7. Se
 pt.\nECSTFA - EM in Malta
END:VEVENT
BEGIN:VTIMEZONE
TZID:Europe/Vienna
X-LIC-LOCATION:Europe/Vienna
BEGIN:DAYLIGHT
DTSTART:20250330T030000
TZOFFSETFROM:+0100
TZOFFSETTO:+0200
TZNAME:CEST
END:DAYLIGHT
END:VTIMEZONE
END:VCALENDAR