BEGIN:VCALENDAR
VERSION:2.0
PRODID:-//wp-events-plugin.com//7.0.5//EN
TZID:Europe/Vienna
X-WR-TIMEZONE:Europe/Vienna
BEGIN:VEVENT
UID:32@tischfussballverband.at
DTSTART;TZID=Europe/Vienna:20260918T080000
DTEND;TZID=Europe/Vienna:20260920T213000
DTSTAMP:20250409T085002Z
URL:https://www.tischfussballverband.at/events/fistf-weltmeisterschaft-202
 6-2/
SUMMARY:FISTF Weltmeisterschaft 2026
DESCRIPTION:               \nFISTF Weltmeisterschaft World Cup 2026
 \nTermin in Planung:  18. &amp\; 20. September 2026  (Noch nicht Offizie
 ll)\nEinzelbewerbe in allen 6 Katergorien: Open. Veteran\, Damen\, U12\, U
 16\, U20\nNationalmannschaften in allen 6 Katergorien: Open. Veteran\, Dam
 en\, U12\, U16\, U20\nMedaillen: 12 Gold\, 12  Silber und die Semi-Finali
 sten erhalten je eine Bronze\, daher 24x\nStadion des Fußballklubs Paris 
 FC   Paris FC\nSpielort:  Stade Sebastien Charltey   //    Stadion 
 des Paris FC\n&nbsp\;
END:VEVENT
BEGIN:VTIMEZONE
TZID:Europe/Vienna
X-LIC-LOCATION:Europe/Vienna
BEGIN:DAYLIGHT
DTSTART:20260329T030000
TZOFFSETFROM:+0100
TZOFFSETTO:+0200
TZNAME:CEST
END:DAYLIGHT
END:VTIMEZONE
END:VCALENDAR