BEGIN:VCALENDAR
VERSION:2.0
PRODID:-//wp-events-plugin.com//7.0.5//EN
TZID:Europe/Vienna
X-WR-TIMEZONE:Europe/Vienna
BEGIN:VEVENT
UID:27@tischfussballverband.at
DTSTART;TZID=Europe/Vienna:20260502T083000
DTEND;TZID=Europe/Vienna:20260503T210000
DTSTAMP:20250721T223038Z
URL:https://www.tischfussballverband.at/events/fistf-golden-grand-prix-bau
 mfalkencup-2026/
SUMMARY:FISTF Golden Grand Prix - Baumfalkencup 2026
DESCRIPTION:Kontakt:\nAlfred Strommer\,  Email: alfred.strommer@astroplan.
 at\nAdresse: ÖGB Heim\nAlfons-Petzold-Strasse 10\nA-2512 Traiskirchen
END:VEVENT
BEGIN:VTIMEZONE
TZID:Europe/Vienna
X-LIC-LOCATION:Europe/Vienna
BEGIN:DAYLIGHT
DTSTART:20260329T030000
TZOFFSETFROM:+0100
TZOFFSETTO:+0200
TZNAME:CEST
END:DAYLIGHT
END:VTIMEZONE
END:VCALENDAR