BEGIN:VCALENDAR
VERSION:2.0
PRODID:-//wp-events-plugin.com//7.0.5//EN
TZID:Europe/Vienna
X-WR-TIMEZONE:Europe/Vienna
BEGIN:VEVENT
UID:21@tischfussballverband.at
DTSTART;TZID=Europe/Vienna:20260905T100000
DTEND;TZID=Europe/Vienna:20260906T200000
DTSTAMP:20250721T223859Z
URL:https://www.tischfussballverband.at/events/eoetv-nationalmannschaft-tr
 aining/
SUMMARY:EÖTV Nationalmannschaft Training für WM Paris 2026
DESCRIPTION:EÖTV  Nationalmannschaft  Training für Paris 2026\nNational
 team Training für EM in Malta\nKöszeg in Ungarn.\nTermin ist offen...!
END:VEVENT
BEGIN:VTIMEZONE
TZID:Europe/Vienna
X-LIC-LOCATION:Europe/Vienna
BEGIN:DAYLIGHT
DTSTART:20260329T030000
TZOFFSETFROM:+0100
TZOFFSETTO:+0200
TZNAME:CEST
END:DAYLIGHT
END:VTIMEZONE
END:VCALENDAR